BEGIN:VCALENDAR
VERSION:2.0
PRODID:-//Ville Morte - ECPv5.12.4//NONSGML v1.0//EN
CALSCALE:GREGORIAN
METHOD:PUBLISH
X-WR-CALNAME:Ville Morte
X-ORIGINAL-URL:https://villemorte.fr
X-WR-CALDESC:évènements pour Ville Morte
BEGIN:VTIMEZONE
TZID:Europe/Paris
BEGIN:DAYLIGHT
TZOFFSETFROM:+0100
TZOFFSETTO:+0200
TZNAME:CEST
DTSTART:20210328T010000
END:DAYLIGHT
BEGIN:STANDARD
TZOFFSETFROM:+0200
TZOFFSETTO:+0100
TZNAME:CET
DTSTART:20211031T010000
END:STANDARD
END:VTIMEZONE
BEGIN:VEVENT
DTSTART;TZID=Europe/Paris:20210917T210000
DTEND;TZID=Europe/Paris:20210917T210000
DTSTAMP:20260423T105036
CREATED:20210915T182025Z
LAST-MODIFIED:20210915T182025Z
UID:13842-1631912400-1631912400@villemorte.fr
SUMMARY:SUBS-SESSION : Oiseaux-Tempête
DESCRIPTION:– Oiseaux-Tempête\n\n\n\nCrée en 2012 par les multi-instrumentistes Frédéric D. Oberland & Stéphane Pigneul\, Oiseaux-Tempête est un collectif à géométrie variable qui\, dans la liberté de l’improvisation\, transcende les frontières et les cultures\, constituant une intersection où les musiques amplifiés (post/kraut/free-rock\, jazz-punk\, avant-garde\, électronique expérimentale) s’entrechoquent et trouvent un terrain d’entente — un refuge. \nCorollaire de plusieurs voyages autour de la mer Méditerranée – la Grèce (‘S/T’\, 2013)\, la Turquie et la Sicile (‘ÜTOPIYA?’\, 2015)\, le Liban (‘AL-’AN!’\, 2017 et ‘TARA’B\, 2018) – la musique de Oiseaux-Tempête est ancrée dans un présent tourmenté. Sensible à la pulsation des coeurs\, aux beats hypnotiques\, aux explosions de matières\, elle y embrasse la fonction communautaire de la collaboration\, conviant régulièrement sur disque et en tournée des artistes amis comme le producteur électronique Mondkopf\, le performer néerlandais G.W.Sok (The Ex)\, les batteurs Jean-Michel Pirès (Bruit Noir\, The Married Monk)\, Sylvain Joasson (Mendelson\, Thousand)\, Ben McConnell (Beach House\, Marissa Nadler)\, la chanteuse et violoniste Jessica Moss ( Thee Silver Mt. Zion Memorial Orchestra & Tra-La-La Band)\, le clarinettiste anglais Gareth Davis\, l’ondiste contemporaine Christine Ott\, les musiciens arabes Charbel Haber & The Bunny Tylers\, Sharif Sehnaoui\, Fadi Tabbal\, Tamer Abu Ghazaleh\, Youmna Saba\, Two Or The Dragon… \n\n\n \n\n\n\n\n\n\n\n 
URL:https://villemorte.fr/agenda/subs-session-oiseaux-tempete/
CATEGORIES:musique live
END:VEVENT
END:VCALENDAR