BEGIN:VCALENDAR
VERSION:2.0
PRODID:-//Ville Morte - ECPv5.12.4//NONSGML v1.0//EN
CALSCALE:GREGORIAN
METHOD:PUBLISH
X-WR-CALNAME:Ville Morte
X-ORIGINAL-URL:https://villemorte.fr
X-WR-CALDESC:évènements pour Ville Morte
BEGIN:VTIMEZONE
TZID:Europe/Paris
BEGIN:DAYLIGHT
TZOFFSETFROM:+0100
TZOFFSETTO:+0200
TZNAME:CEST
DTSTART:20190331T010000
END:DAYLIGHT
BEGIN:STANDARD
TZOFFSETFROM:+0200
TZOFFSETTO:+0100
TZNAME:CET
DTSTART:20191027T010000
END:STANDARD
END:VTIMEZONE
BEGIN:VEVENT
DTSTART;TZID=Europe/Paris:20190626T190000
DTEND;TZID=Europe/Paris:20190626T190000
DTSTAMP:20260425T174226
CREATED:20190517T223248Z
LAST-MODIFIED:20190517T223413Z
UID:9679-1561575600-1561575600@villemorte.fr
SUMMARY:Summer transbo GRAND OPENING avec DOMENIQUE DUMONT\, HERVÉ\, KCIDY
DESCRIPTION:mer 26 juin : GRAND OPENING avec DOMENIQUE DUMONT\, HERVÉ\, KCIDY… \ngratuit sur réservation transbordeur.fr
URL:https://villemorte.fr/agenda/summer-transbo-grand-opening-avec-domenique-dumont-herve-kcidy/
LOCATION:Club Transbo\, 3 Boulevard de Stalingrad\, Villeurbanne\, 69100\, France
CATEGORIES:musique live
END:VEVENT
END:VCALENDAR