BEGIN:VCALENDAR
VERSION:2.0
PRODID:-//Ville Morte - ECPv5.12.4//NONSGML v1.0//EN
CALSCALE:GREGORIAN
METHOD:PUBLISH
X-WR-CALNAME:Ville Morte
X-ORIGINAL-URL:https://villemorte.fr
X-WR-CALDESC:évènements pour Ville Morte
BEGIN:VTIMEZONE
TZID:Europe/Paris
BEGIN:DAYLIGHT
TZOFFSETFROM:+0100
TZOFFSETTO:+0200
TZNAME:CEST
DTSTART:20230326T010000
END:DAYLIGHT
BEGIN:STANDARD
TZOFFSETFROM:+0200
TZOFFSETTO:+0100
TZNAME:CET
DTSTART:20231029T010000
END:STANDARD
END:VTIMEZONE
BEGIN:VEVENT
DTSTART;TZID=Europe/Paris:20230401T200000
DTEND;TZID=Europe/Paris:20230401T200000
DTSTAMP:20260425T213528
CREATED:20230311T134312Z
LAST-MODIFIED:20230311T134312Z
UID:18729-1680379200-1680379200@villemorte.fr
SUMMARY:Syberia + Inner Landscape
DESCRIPTION:Syberia (Post-Rock / Barcelone\, ES)\nhttps://www.facebook.com/syberiaband\nhttps://syberia.bandcamp.com/\nInner Landscape (Post-Metal / Lyon)\nhttps://www.facebook.com/innerlandscapeband\nhttps://innerlandscape.bandcamp.com/
URL:https://villemorte.fr/agenda/syberia-inner-landscape/
LOCATION:Le Farmer\, 14 montée des Carmélites\, Lyon\, France
CATEGORIES:musique live
END:VEVENT
END:VCALENDAR