BEGIN:VCALENDAR
VERSION:2.0
PRODID:-//Ville Morte - ECPv5.12.4//NONSGML v1.0//EN
CALSCALE:GREGORIAN
METHOD:PUBLISH
X-WR-CALNAME:Ville Morte
X-ORIGINAL-URL:https://villemorte.fr
X-WR-CALDESC:évènements pour Ville Morte
BEGIN:VTIMEZONE
TZID:Europe/Paris
BEGIN:DAYLIGHT
TZOFFSETFROM:+0100
TZOFFSETTO:+0200
TZNAME:CEST
DTSTART:20240331T010000
END:DAYLIGHT
BEGIN:STANDARD
TZOFFSETFROM:+0200
TZOFFSETTO:+0100
TZNAME:CET
DTSTART:20241027T010000
END:STANDARD
END:VTIMEZONE
BEGIN:VEVENT
DTSTART;TZID=Europe/Paris:20241206T200000
DTEND;TZID=Europe/Paris:20241206T200000
DTSTAMP:20260422T110836
CREATED:20241121T103327Z
LAST-MODIFIED:20241121T103327Z
UID:26678-1733515200-1733515200@villemorte.fr
SUMMARY:Tapani Pcheli
DESCRIPTION:Vendredi 6\, 20h\, prix libre : Tapani Pcheli\nTapani Pcheli c’est une percussion\, autour de laquelle bourdonnent deux saxophones. Un trio s’inspirant de la transe qui habite les danses et les racines traditionnelles des Balkans et d’Anatolie. Les saxophones sonnent à l’unisson tel une gaïda tandis que résonnent les puissants « dum » et « tak » du tapan.
URL:https://villemorte.fr/agenda/tapani-pcheli/
LOCATION:Les Clameurs\, 23 rue d'Aguesseau\, LYON\, 69007\, France
CATEGORIES:musique live
END:VEVENT
END:VCALENDAR