BEGIN:VCALENDAR
VERSION:2.0
PRODID:-//Ville Morte - ECPv5.12.4//NONSGML v1.0//EN
CALSCALE:GREGORIAN
METHOD:PUBLISH
X-WR-CALNAME:Ville Morte
X-ORIGINAL-URL:https://villemorte.fr
X-WR-CALDESC:évènements pour Ville Morte
BEGIN:VTIMEZONE
TZID:Europe/Paris
BEGIN:DAYLIGHT
TZOFFSETFROM:+0100
TZOFFSETTO:+0200
TZNAME:CEST
DTSTART:20190331T010000
END:DAYLIGHT
BEGIN:STANDARD
TZOFFSETFROM:+0200
TZOFFSETTO:+0100
TZNAME:CET
DTSTART:20191027T010000
END:STANDARD
END:VTIMEZONE
BEGIN:VEVENT
DTSTART;TZID=Europe/Paris:20190917T203000
DTEND;TZID=Europe/Paris:20190917T203000
DTSTAMP:20260423T072916
CREATED:20190824T090449Z
LAST-MODIFIED:20190901T205655Z
UID:10094-1568752200-1568752200@villemorte.fr
SUMMARY:Tapeworms + Diana Hutch
DESCRIPTION:Le Farmer & Kill The Lights présentent :\nTAPEWORMS ✚ DIANA HUTCH\nMardi 17 septembre ✁ 20h30 ✁ 6€\n❤ My Bloody Valentine\, Deerhunter\, Atlas Sound\, Craft Spells\, Wild Nothing\, Beach Fossils\, Nothing\, Slowdive\, Real Estate\, SALES\, Surf Curse\, King Krule\, Washed Out\, Pastel Dream\, Blankenberge.. \n✁ TAPEWORMS (shoegaze noise/pop – Lille)\nOulalala alors TAPEWORMS fait parti de notre TOP 10 « Best découvertes groupes indé Français pour lesquels on va faire plein de gâteaux au chocolat et on les mettra dans des beaux Tupperware pour pas que les groupes meurent de fin dans leur van tout pourri de tournée ». Non\, vraiment\, c’est une véritable claque et une sacrée pépite perdue entre des vapeurs shoegaze\, des explosions noise et un parfum indie rock pop. Le groupe puise ses forces dans les années 90\, et ça se sent\, car mine de rien\, y a du grunge dans ce pti bazar pop shoegaze nostalgique. Evidemment\, la voix de Margot rajoute une couleur particulière lorsque celle-ci se mélange à merveille avec celle de Théo.\nFB https://www.facebook.com/tapewormsband/\nBC https://tapewormsband.bandcamp.com/album/everything-will-be-fine \n✁ DIANA HUTCH (indie pop – Lyon)\nSi toi aussi tu as passé des nuits entières à écouter Washed Out ou Wild Nothing\, alors ce nouveau projet Lyonnais est pour toi. Diana Hutch pourrait être la bande sonore d’un vieux cliché sorti d’un Yashica Mat en 1978. Diana Hutch pourrait aussi émaner du film The Virgin Suicides. Une pop intimiste\, douce et hyper colorée. On adore !\nFB https://www.facebook.com/dianahutchhh/\nBC https://dianahutch.bandcamp.com/ \n🕣 20h30\n💸 6€ (recettes 100% reversées aux groupes)\n🚴‍ LE FARMER – 14 montée des Carmélites – 69001 LYON
URL:https://villemorte.fr/agenda/tapeworms-diana-hutch/
LOCATION:Le Farmer\, 14 montée des Carmélites\, Lyon\, France
CATEGORIES:musique live
END:VEVENT
END:VCALENDAR