BEGIN:VCALENDAR
VERSION:2.0
PRODID:-//Ville Morte - ECPv5.12.4//NONSGML v1.0//EN
CALSCALE:GREGORIAN
METHOD:PUBLISH
X-WR-CALNAME:Ville Morte
X-ORIGINAL-URL:https://villemorte.fr
X-WR-CALDESC:évènements pour Ville Morte
BEGIN:VTIMEZONE
TZID:Europe/Paris
BEGIN:DAYLIGHT
TZOFFSETFROM:+0100
TZOFFSETTO:+0200
TZNAME:CEST
DTSTART:20230326T010000
END:DAYLIGHT
BEGIN:STANDARD
TZOFFSETFROM:+0200
TZOFFSETTO:+0100
TZNAME:CET
DTSTART:20231029T010000
END:STANDARD
END:VTIMEZONE
BEGIN:VEVENT
DTSTART;VALUE=DATE:20230916
DTEND;VALUE=DATE:20230917
DTSTAMP:20260420T170021
CREATED:20230822T113224Z
LAST-MODIFIED:20230822T114515Z
UID:20343-1694822400-1694908799@villemorte.fr
SUMMARY:TechXploitation - The Great Offshore + Tail + Quadrature du Net + RYBN + A/V Live Enerzion&Marin Softwane
DESCRIPTION:14H Balade The Great Offshore (prix libre)Rendez-vous à l’Amicale pour le départ./ !\ Seulement sur inscription sur amicaledufutur [at] riseup [point] net / !20 personnes max. \nEmpruntant aux situationnistes la dérive psychogéographique\, l’Offshore Tour Operator (OTO) est un audioguide géolocalisé\, un GPS qui embarque les 785 000 adresses des Offshore leaks publiées par la base de donnée ICIJ (offshoreleaks.icij.org) et qui dirige automatiquement les déambulations urbaines de ses utilisateurices vers l’une ou l’autre de ces adresses d’entités offshore\, et ce\, où que l’on soit dans le monde. Les « Offshore Tours » proposent une percée dans cette géographie parallèle par la visite locale de quelques-uns des acteurs épinglés par les Leaks\, plus souvent les petites mains de la finance offshore que ses architectes. Chaque adresse visitée\, chaque façade\, chaque nœud du réseau offshore est méthodiquement pris en photo. Derrière chaque façadephotographiée se cache un hotspot\, une trouée du paysage urbain connectée à un ailleurs\, véritable point de passage vers l’espace offshore. Mais parce que ces adresses sont désertées à l’instant même de leur dévoilement\, la traque de la finance offshore vire alors à la chasse aux fantômes. \nwww.rybn.org/thegreatoffshore \n16H Atelier clef Tail (prix libre)Comment chiffrer votre clef USB dans le fun et la rigolade ? \n19H Discussion (entrée libre)Menaces sur le chiffrement et la confidentialité des échanges.Rencontre avec les juristes de la Quadrature du net. \nLe droit à la vie privée passe notamment par le fait d’être en mesure de protéger ses communications. Or\, ce droit est actuellement soumis à des attaques importantes : projet de règlement européen CSAR qui prévoit de scanner l’entièreté des échanges numériques au nom de la lutte contre les abus sexuels sur les mineur·es\, article de la loi de programmation justice sur l’activation à distance d’objets connectés…C’est dans ce contexte liberticide que s’annonce le procès de l’affaire du 8 décembre (qui se tiendra en octobre à Paris)\, où il est notamment reproché à des personnes d’entretenir un « comportement clandestin » et donc pré-terroriste\, en utilisant des messageries chiffrées. Nous reviendrons sur les logiques de criminalisation à l’œuvre dans cette procédure antiterroriste. \nwww.laquadrature.net \n* Snacks *Pour reprendre des forces avant la fête \n21HConcerts (prix conseillé 5eu)RYBN : la suite sonore de The Great Offshore \nwww.specificinterest.bandcamp.com \nEnerzion+Marin Softwane  : un concert audio/visuelArtistes lyonnaise et nantaise\, Marin Softwane et Enerzion sculptent une matière visuelle et sonore glanées dans notre environnement artificiel et artefactuel\, elles créent ensemble une performance live où les sonorités organiques et brutes composées de rythme breakés d’Enerzion rencontrent les textures virtuelles saturées et dissonantes de Marin Softwane. \nwww. enerzionn.hotglue.meInstagram : malaisechloeInstagram : marin_soft_wane \nOuverture des portes à 13h30\nA écouter en direct sur le stream de ΠNode Radio\, —> www.p-node.org\nPlus d’infos sur le programme du week-end sur amicale.online ! \n  \n 
URL:https://villemorte.fr/agenda/techxploitation-the-great-offshore-tail-quadrature-du-net-rybn-a-v-live-enerzionmarin-softwane/
LOCATION:L’Amicale Du Futur\, 31 Rue Sébastien Gryphe\, LYON\, 69007
CATEGORIES:atelier,discussion,distro,musique live,radio,rencontre
ATTACH;FMTTYPE=application/pdf:https://villemorte.fr/wp-content/uploads/2023/08/TECHXPLOITATION_PROGRAMME_WEB-2.pdf
END:VEVENT
END:VCALENDAR