BEGIN:VCALENDAR
VERSION:2.0
PRODID:-//Ville Morte - ECPv5.12.4//NONSGML v1.0//EN
CALSCALE:GREGORIAN
METHOD:PUBLISH
X-WR-CALNAME:Ville Morte
X-ORIGINAL-URL:https://villemorte.fr
X-WR-CALDESC:évènements pour Ville Morte
BEGIN:VTIMEZONE
TZID:Europe/Paris
BEGIN:DAYLIGHT
TZOFFSETFROM:+0100
TZOFFSETTO:+0200
TZNAME:CEST
DTSTART:20220327T010000
END:DAYLIGHT
BEGIN:STANDARD
TZOFFSETFROM:+0200
TZOFFSETTO:+0100
TZNAME:CET
DTSTART:20221030T010000
END:STANDARD
END:VTIMEZONE
BEGIN:VEVENT
DTSTART;TZID=Europe/Paris:20220909T190000
DTEND;TZID=Europe/Paris:20220909T190000
DTSTAMP:20260423T021558
CREATED:20220814T190547Z
LAST-MODIFIED:20220824T073452Z
UID:16763-1662750000-1662750000@villemorte.fr
SUMMARY:Terry Riley’s In C pour 11 oscillateurs et 53 formes
DESCRIPTION:Julien Sénélas (Funken\, Awards\, The Fox Heads…)\, Jérôme Vassereau (Pneu\, La Colonie De Vacances\, Binidu…) et Soia proposent une version inédite de In C\, l’œuvre phare de Terry Riley. Une nouvelle interprétation avec deux synthétiseurs modulaires (11 oscillateurs) accompagnée d’une création graphique (53 formes). \nComposée en 1964 par Terry Riley\, In C est considérée comme l’œuvre fondatrice du courant minimaliste. A l’instar des 11 instruments acoustiques qu’on peut entendre sur la version la plus célèbre enregistrée en 1968\, ce sont ici 11 oscillateurs d’un ensemble de deux synthétiseurs modulaires qui sont utilisés. Les instructions du compositeur incitent toute sorte de formation à faire vivre la partition et indiquent “Electronic Keyboard are welcome”. Une invitation claire et ouverte à faire une relecture électronique de cette œuvre souvent jouée par des orchestres. \nParallèlement\, l’Illustratrice et plasticienne Soia a créé un alphabet de formes\, qui représentent chacune des 53 cellules musicales qui composent In C : ces animations visuelles en direct  (manipulation projetées de papiers\, couleurs…)\, offrent une nouvelle interprétation visuelle et électronique de cette composition évolutive\, parmi les plus accessibles et généreuses de la musique contemporaine
URL:https://villemorte.fr/agenda/terry-rileys-in-c-pour-11-oscillateurs-et-53-formes/
LOCATION:Médiathèque de Villeurbanne – MLIS\, 247 cours Emile Zola\, Villeurbanne\, 69100\, France
CATEGORIES:musique live,performance
ATTACH;FMTTYPE=image/jpeg:https://villemorte.fr/wp-content/uploads/2022/08/294123471_5306721262727396_3885528121854625042_n.jpg
END:VEVENT
END:VCALENDAR