BEGIN:VCALENDAR
VERSION:2.0
PRODID:-//Ville Morte - ECPv5.12.4//NONSGML v1.0//EN
CALSCALE:GREGORIAN
METHOD:PUBLISH
X-WR-CALNAME:Ville Morte
X-ORIGINAL-URL:https://villemorte.fr
X-WR-CALDESC:évènements pour Ville Morte
BEGIN:VTIMEZONE
TZID:Europe/Paris
BEGIN:DAYLIGHT
TZOFFSETFROM:+0100
TZOFFSETTO:+0200
TZNAME:CEST
DTSTART:20190331T010000
END:DAYLIGHT
BEGIN:STANDARD
TZOFFSETFROM:+0200
TZOFFSETTO:+0100
TZNAME:CET
DTSTART:20191027T010000
END:STANDARD
END:VTIMEZONE
BEGIN:VEVENT
DTSTART;TZID=Europe/Paris:20190411T203000
DTEND;TZID=Europe/Paris:20190411T203000
DTSTAMP:20260424T031318
CREATED:20190310T191312Z
LAST-MODIFIED:20190311T234139Z
UID:8872-1555014600-1555014600@villemorte.fr
SUMMARY:The Black Delta Movement ✚ Guest
DESCRIPTION:jeu. 11/04 The Black Delta Movement ✚ Guest (5€) \nLe Farmer & Kill the Lights présentent :\nTHE BLACK DELTA MOVEMENT ✚ GUEST\nJeudi 11 avril ▼ 20h30 ▼ 5€\n❤ The Black Angels\, The Brian Jonestown Massacre\, Black Rebel Motorcycle Club\, The Warlocks\, The Thirteenth Floor Elevators\, The Sonics\, Steppenwolf. \n▼▼▼ THE BLACK DELTA MOVEMENT (psych rock’n’roll – UK)\nTu te souviens de cet incroyable live au Farmer en mai 2018 ? Sans doute dans notre « Top 10 – Grosses tartes matafan ». Les BDM sont originaires de Kingston Upon Hull (UK). Aussi tordu et psyché que son nom l’indique\, cette petite bourgade abrite de nombreuses pépites psyché ; longtemps bercées avec le biberon vert fluo douteux de Anton Newcombe.\nPlaisir du cœur\, plaisir chaleur. Ils puisent leur influences du côté de Black Rebel Motorcycle Club\, Paul Weller\, The Small Faces\, ou encore The Black Keys avec un fort penchant post punk. Ils ont\, aussi\, partagé des tournées avec The Jesus & Mary Chain\, The Stranglers\, Temples\, Drenge\, The View\, Shaun Ryder\, Twin Atlantic\, The Bohicas\, Jefferson Starship\, Steve Cradock\, et The Temperance Movement.\nFB https://www.facebook.com/blackdeltamovement/\nYT https://youtu.be/luBp10Pve-E\nYT https://youtu.be/lkrgOlksr-k\nYT https://youtu.be/Jk1ft0vXBlU \n✚ GUEST \n🕣 20h30\n💸 5€ (recettes 100% reversées aux groupes)\n🚴‍ LE FARMER – 14 montée des Carmélites – 69001 LYON
URL:https://villemorte.fr/agenda/the-black-delta-movement-%e2%9c%9a-guest/
LOCATION:Le Farmer\, 14 montée des Carmélites\, Lyon\, France
CATEGORIES:musique live
END:VEVENT
END:VCALENDAR