BEGIN:VCALENDAR
VERSION:2.0
PRODID:-//Ville Morte - ECPv5.12.4//NONSGML v1.0//EN
CALSCALE:GREGORIAN
METHOD:PUBLISH
X-WR-CALNAME:Ville Morte
X-ORIGINAL-URL:https://villemorte.fr
X-WR-CALDESC:évènements pour Ville Morte
BEGIN:VTIMEZONE
TZID:Europe/Paris
BEGIN:DAYLIGHT
TZOFFSETFROM:+0100
TZOFFSETTO:+0200
TZNAME:CEST
DTSTART:20230326T010000
END:DAYLIGHT
BEGIN:STANDARD
TZOFFSETFROM:+0200
TZOFFSETTO:+0100
TZNAME:CET
DTSTART:20231029T010000
END:STANDARD
END:VTIMEZONE
BEGIN:VEVENT
DTSTART;TZID=Europe/Paris:20230124T210000
DTEND;TZID=Europe/Paris:20230124T210000
DTSTAMP:20260425T025403
CREATED:20221218T210645Z
LAST-MODIFIED:20221218T211909Z
UID:18004-1674594000-1674594000@villemorte.fr
SUMMARY:The Bridge #2.9
DESCRIPTION:The Bridge est né de l’idée d’Alexandre Pierrepont\, chercheur et universitaire\, d’entretenir une connexion entre musiciens et faciliter le passage d’un continent à l’autre. S’en suit de nombreuses collaborations France-Chicago pour des tournées uniques et des rencontres. L’occasion pour les artistes de se découvrirent et de prendre le temps : le temps de jouer\, d’échanger\, de se rencontrer et d’improviser. \nThe Bridge #2.9\, ensemble composé de : Ugochi Nwaogwugwu (chant)\, Sakina Abdou (saxophones\, flûte à bec)\, Julien Pontvianne (saxophone ténor\, clarinette)\, Julien Chamla (batterie\, percussions) et Coco Elysses (percussions\, diddley bow\, voix). \nThe Brigde #2.9 \nThe Brigde #2.9 ont choisi de former un groupe en miroir avec deux « doubles » : percussions/saxophone\, et au centre\, une voix\, le chant. \nCes cinq créateurs et créatrices ont un point commun : ils et elles sont rompues à l’exploration en collectif. Côté France\, Sakina Abdou\, Julien Chamla et Julien Pontvianne sont respectivement membres des collectifs Muzzix\, Coax et Onze Heures Onze. Côté Chicago\, Coco Elysses est désormais présidente de la légendaire et demi-centenaire Association for the Advancement of Creative Musicians (AACM)\, tandis qu’Ugochi Nwaogwugwu prête toutes ses voix sa voix et ses poèmes aux efforts de réechantement par l’art du South Side. Collectivement\, ces cinq-là n’ont cessé de composer avec les identités multiples et les influences\, de la folk à la noise en passant par le minimalisme.
URL:https://villemorte.fr/agenda/the-bridge-2-9/
LOCATION:Périscope\, 13 rue Delandine\, Lyon\, 69002\, France
CATEGORIES:musique live
END:VEVENT
END:VCALENDAR