BEGIN:VCALENDAR
VERSION:2.0
PRODID:-//Ville Morte - ECPv5.12.4//NONSGML v1.0//EN
CALSCALE:GREGORIAN
METHOD:PUBLISH
X-WR-CALNAME:Ville Morte
X-ORIGINAL-URL:https://villemorte.fr
X-WR-CALDESC:évènements pour Ville Morte
BEGIN:VTIMEZONE
TZID:Europe/Paris
BEGIN:DAYLIGHT
TZOFFSETFROM:+0100
TZOFFSETTO:+0200
TZNAME:CEST
DTSTART:20190331T010000
END:DAYLIGHT
BEGIN:STANDARD
TZOFFSETFROM:+0200
TZOFFSETTO:+0100
TZNAME:CET
DTSTART:20191027T010000
END:STANDARD
END:VTIMEZONE
BEGIN:VEVENT
DTSTART;TZID=Europe/Paris:20190517T203000
DTEND;TZID=Europe/Paris:20190517T203000
DTSTAMP:20260426T062951
CREATED:20190426T170543Z
LAST-MODIFIED:20190426T170543Z
UID:9431-1558125000-1558125000@villemorte.fr
SUMMARY:The Buttshakers et la Chorale Rock
DESCRIPTION:// SOIRÉE SOUL ROCK\n10 / 12 / 14 € \n> The Buttshakers – FRANCE \nCela fait déjà un an que leur dernier album Sweet Rewards est sorti sur le label Underdog Records mais on ne s’en lasse pas. Emmenés par la voix envoûtante et l’énergie de la séduisante et charismatique riot girl Ciara Thompson\, The Buttshakers nous délivrent une soul chaude et crue qui lorgne sur le blues et les rythmes addictifs qu’ils affectionnent tant. Ce projet funk/soul lyonnais est incontestablement l’un des meilleurs de l’hexagone\, nous sommes fiers de l’accueillir. \n> LA CHORALE ROCK – FRANCE FEYZIN\nLa Chorale Rock de l’Épicerie\, accompagnée cette année de la chef de Choeur Ciara Thompson des Buttshakers\, poussera les manettes au maximum pour dévoiler un show « rrrr »… en 1ère partie de soirée ! \n// INFOS PRATIQUES \n>> Pour venir en transports en commun : \nArrêt Feyzin – La Bégude\n– Bus 60 (depuis la Gare de Perrache)\n– Bus 39 (depuis la Gare de Vénissieux / Métro D) \n>> Pour le retour en transports en commun : \nArrêt Feyzin – La Bégude\n– 23h : dernière Bus 60\n(direction Gare de Perrache / arrêt Maurice Thorez pour Tram T4) \n>> Pour venir en covoiturage :\nhttp://www.epiceriemoderne.com/index.php?id=996 \n// www.epiceriemoderne.com
URL:https://villemorte.fr/agenda/the-buttshakers-et-la-chorale-rock/
LOCATION:L’Épicerie Moderne\, Place René Lescot\, Feyzin\, 69320\, France
CATEGORIES:musique live
END:VEVENT
END:VCALENDAR