BEGIN:VCALENDAR
VERSION:2.0
PRODID:-//Ville Morte - ECPv5.12.4//NONSGML v1.0//EN
CALSCALE:GREGORIAN
METHOD:PUBLISH
X-WR-CALNAME:Ville Morte
X-ORIGINAL-URL:https://villemorte.fr
X-WR-CALDESC:évènements pour Ville Morte
BEGIN:VTIMEZONE
TZID:Europe/Paris
BEGIN:DAYLIGHT
TZOFFSETFROM:+0100
TZOFFSETTO:+0200
TZNAME:CEST
DTSTART:20160327T010000
END:DAYLIGHT
BEGIN:STANDARD
TZOFFSETFROM:+0200
TZOFFSETTO:+0100
TZNAME:CET
DTSTART:20161030T010000
END:STANDARD
END:VTIMEZONE
BEGIN:VEVENT
DTSTART;TZID=Europe/Paris:20161111T203000
DTEND;TZID=Europe/Paris:20161111T203000
DTSTAMP:20260425T140018
CREATED:20161014T082324Z
LAST-MODIFIED:20161031T105639Z
UID:2450-1478896200-1478896200@villemorte.fr
SUMMARY:The Flying Madonnas + Lady Fitness
DESCRIPTION:@Bar des Capucins \nPied de Biche présente : \n// The Flying Madonnas (New Psychedelism) Rome // \nFondé en 2012 après différentes expériences musicales et de nombreuses jam sessions\, The Flying Madonnas est un mélange de Psychédélisme\, de Math-Rock\, de Pop\, de Noise et de Rock Progressif. Le 1er album du groupe « Per Aspera Ad Astra » est sorti en avril 2016. \nBandcamp : http://theflyingmadonnas.bandcamp.com/\nFacebook : https://www.facebook.com/TheFlyingMadonnas/ \n// Lady Fitness (Rock élastique et noise fluo) Lyon // \nQuartet brutalement guilleret\nLady Fitness forge votre corps et votre esprit\nPour les sombres années à venir\nZumba\, push-ups et poésie \nBandcamp : https://ladyfitness.bandcamp.com/\nFacebook : https://www.facebook.com/ladyfitnessquartet/ \n5 euros \nPied de BIche : http://www.piedebiche.com/
URL:https://villemorte.fr/agenda/the-flying-madonnas-lady-fitness/
LOCATION:Bar des Capucins\, Place des Capucins\, Lyon\, 69001\, France
CATEGORIES:musique live
ATTACH;FMTTYPE=image/jpeg:https://villemorte.fr/wp-content/uploads/2016/10/14525227_10209710586458526_7152509062532637813_o.jpg
END:VEVENT
END:VCALENDAR