BEGIN:VCALENDAR
VERSION:2.0
PRODID:-//Ville Morte - ECPv5.12.4//NONSGML v1.0//EN
CALSCALE:GREGORIAN
METHOD:PUBLISH
X-WR-CALNAME:Ville Morte
X-ORIGINAL-URL:https://villemorte.fr
X-WR-CALDESC:évènements pour Ville Morte
BEGIN:VTIMEZONE
TZID:Europe/Paris
BEGIN:DAYLIGHT
TZOFFSETFROM:+0100
TZOFFSETTO:+0200
TZNAME:CEST
DTSTART:20180325T010000
END:DAYLIGHT
BEGIN:STANDARD
TZOFFSETFROM:+0200
TZOFFSETTO:+0100
TZNAME:CET
DTSTART:20181028T010000
END:STANDARD
END:VTIMEZONE
BEGIN:VEVENT
DTSTART;TZID=Europe/Paris:20181201T203000
DTEND;TZID=Europe/Paris:20181201T203000
DTSTAMP:20260419T221347
CREATED:20181021T202329Z
LAST-MODIFIED:20181021T202329Z
UID:7411-1543696200-1543696200@villemorte.fr
SUMMARY:The Gluts ✚ Dead Horse One ✚ Haiku Garden
DESCRIPTION:@ Le Farmer \n// Le Farmer & Kill the Lights présentent :\nTHE GLUTS ✚ DEAD HORSE ONE ✚ HAIKU GARDEN\nSamedi 1er décembre ✹ 20h ✹ 7€\n❤ The Black Angels\, Nothing\, DIIV\, A Place To Bury Strangers\, The Underground Youth\,10 000 Russos\, The Cosmic Dead\, The Soft Moon\, Dead Vibrations\, Brian Jonestown Massacre.. \n✹ THE GLUTS (dark psych grunge – Italie)\n/// FUZZ CLUB HEINDHOVEN 2018 ///\nTout commence sur un « PLAY TO BELIEVE BUT PLAY IT LOUD ». Ces bandits l’ont peut-être trouvé au détour d’une bonne pizzeria italienne. Qui sait ? En tout cas\, on est sûr d’une chose : ce groupe est monstrueux et tout aussi puissant qu’un plan à 3 entre THE SOFT MOON\, THE BLACK ANGELS et A PLACE TO BURY STRANGERS.\nFB https://www.facebook.com/thegluts/\nYT https://www.youtube.com/watch?v=6zIyukUI9ac\nYT https://www.youtube.com/watch?v=ZfmThUHMjZU \n✹ DEAD HORSE ONE (shoegaze – Valence)\nDead Horse One est est un groupe originaire de Valence qui publie son premier EP en 2012 chez Cranes Records (The History of Color TV\, The Dead Mantra…)\, suivi d’un split remarqué avec les Manceaux de Dead Mantra. Le groupe recoit un nombre élevé de critiques positives suite à ces deux sorties\, ce qui leur permettra notamment de jouer pour la deuxième édition du fameux Liverpool Psych Fest en 2013. Après un premier LP produit par Mark Gardener des légendaires RIDE\, Dead Horse One a depuis réalisé un deuxième album – Season of Mist – sorti chez Requiel pour un Twister (Corridor\, Triptides\, Good Morning TV…) et a enchaîné les premières parties pour RIDE sur plusieurs dates françaises et européennes (Lyon\, Bruxelles\, Utrecht\, Berlin…).\nFB https://www.facebook.com/deadhorseone/\nYT https://www.youtube.com/watch?v=yuUMPd8xhfE\nBC https://deadhorseone1.bandcamp.com/ \n✹ HAIKU GARDEN (indie rock shoegaze – Slovénie)\nSorte de revival NIRVANA vs MY BLOODY VALENTINE\, classieux au possible\, on est MEGA fan ! Groupe indé perdu sans la pampa Slovène. A découvrir pour les férus de shoegaze qui fricote avec DIIV et BEACH FOSSILS.\nFB www.facebook.com/HaikuGardenBand/\nLIVE SESSION https://www.youtube.com/watch?v=5rA1DQrRYFo&list=PL3IKDnzytHt0y-Ie7h3_d2pc1ag8WqR2o&index=2\nBC https://kaparecords.bandcamp.com/album/waver \n🕣 20h\n💸 7€ (recettes 100% reversées aux groupes)\n🚴 LE FARMER – 14 montée des Carmélites – 69001 LYON
URL:https://villemorte.fr/agenda/the-gluts-%e2%9c%9a-dead-horse-one-%e2%9c%9a-haiku-garden/
CATEGORIES:musique live
ATTACH;FMTTYPE=image/jpeg:https://villemorte.fr/wp-content/uploads/2018/10/43878908_344709822942679_8728421929809084416_n.jpg
END:VEVENT
END:VCALENDAR