BEGIN:VCALENDAR
VERSION:2.0
PRODID:-//Ville Morte - ECPv5.12.4//NONSGML v1.0//EN
CALSCALE:GREGORIAN
METHOD:PUBLISH
X-WR-CALNAME:Ville Morte
X-ORIGINAL-URL:https://villemorte.fr
X-WR-CALDESC:évènements pour Ville Morte
BEGIN:VTIMEZONE
TZID:Europe/Paris
BEGIN:DAYLIGHT
TZOFFSETFROM:+0100
TZOFFSETTO:+0200
TZNAME:CEST
DTSTART:20230326T010000
END:DAYLIGHT
BEGIN:STANDARD
TZOFFSETFROM:+0200
TZOFFSETTO:+0100
TZNAME:CET
DTSTART:20231029T010000
END:STANDARD
END:VTIMEZONE
BEGIN:VEVENT
DTSTART;TZID=Europe/Paris:20231202T203000
DTEND;TZID=Europe/Paris:20231202T203000
DTSTAMP:20260420T110214
CREATED:20231010T132433Z
LAST-MODIFIED:20231010T132433Z
UID:21189-1701549000-1701549000@villemorte.fr
SUMMARY:TIF
DESCRIPTION:RAP\n\n\n\n\n\nCe rappeur mélomane\, Tif\, capable de rapper et de chanter en français comme en arabe\, a connu un engouement avec son titre 3iniya (‘les yeux’) en 2020. Le clip tourné à Alger lui a créé une audience en Algérie et en France. \nMalgré des propositions de grosses industries\, Tif a fait le choix de l’indépendance et d’un contrat de distribution chez Warner pour  préparer  ce  premier  EP  afin de  rester  fidèle  à  sa musique. Houma Sweet Houma nous fait voyager entre Alger et Paris par ses paroles touchantes et sa musicalité certaine. \nL’univers de Tif est identifié et identifiable\, sa nostalgie joyeuse et communicative\, et ses rythmes mélancoliques et exaltés\, comme l’incarne son single Hinata.
URL:https://villemorte.fr/agenda/tif/
LOCATION:L’Épicerie Moderne\, Place René Lescot\, Feyzin\, 69320\, France
CATEGORIES:musique live
END:VEVENT
END:VCALENDAR