BEGIN:VCALENDAR
VERSION:2.0
PRODID:-//Ville Morte - ECPv5.12.4//NONSGML v1.0//EN
CALSCALE:GREGORIAN
METHOD:PUBLISH
X-WR-CALNAME:Ville Morte
X-ORIGINAL-URL:https://villemorte.fr
X-WR-CALDESC:évènements pour Ville Morte
BEGIN:VTIMEZONE
TZID:Europe/Paris
BEGIN:DAYLIGHT
TZOFFSETFROM:+0100
TZOFFSETTO:+0200
TZNAME:CEST
DTSTART:20240331T010000
END:DAYLIGHT
BEGIN:STANDARD
TZOFFSETFROM:+0200
TZOFFSETTO:+0100
TZNAME:CET
DTSTART:20241027T010000
END:STANDARD
END:VTIMEZONE
BEGIN:VEVENT
DTSTART;TZID=Europe/Paris:20240627T200000
DTEND;TZID=Europe/Paris:20240627T200000
DTSTAMP:20260420T110026
CREATED:20240525T072044Z
LAST-MODIFIED:20240525T072044Z
UID:24819-1719518400-1719518400@villemorte.fr
SUMMARY:Tomi Marx + Avec des Gens Armés
DESCRIPTION:Tomi Marx (Alt-Pop / Variété Psyché – France / Belgique)\n\nhttps://tomimarx.bandcamp.com/ \n\nAvec Des gens armés (pop pacifiste/duo)\n\nhttps://linktr.ee/avecdesgensarmes
URL:https://villemorte.fr/agenda/tomi-marx-avec-des-gens-armes/
LOCATION:Les Clameurs\, 23 rue d'Aguesseau\, LYON\, 69007\, France
CATEGORIES:musique live
END:VEVENT
END:VCALENDAR