BEGIN:VCALENDAR
VERSION:2.0
PRODID:-//Ville Morte - ECPv5.12.4//NONSGML v1.0//EN
CALSCALE:GREGORIAN
METHOD:PUBLISH
X-WR-CALNAME:Ville Morte
X-ORIGINAL-URL:https://villemorte.fr
X-WR-CALDESC:évènements pour Ville Morte
BEGIN:VTIMEZONE
TZID:Europe/Paris
BEGIN:DAYLIGHT
TZOFFSETFROM:+0100
TZOFFSETTO:+0200
TZNAME:CEST
DTSTART:20190331T010000
END:DAYLIGHT
BEGIN:STANDARD
TZOFFSETFROM:+0200
TZOFFSETTO:+0100
TZNAME:CET
DTSTART:20191027T010000
END:STANDARD
END:VTIMEZONE
BEGIN:VEVENT
DTSTART;TZID=Europe/Paris:20191023T203000
DTEND;TZID=Europe/Paris:20191023T203000
DTSTAMP:20260422T043358
CREATED:20190820T070515Z
LAST-MODIFIED:20190820T070515Z
UID:9988-1571862600-1571862600@villemorte.fr
SUMMARY:Total Victory
DESCRIPTION:23/10 Total Victory
URL:https://villemorte.fr/agenda/total-victory/
LOCATION:Sonic\, 4 quai des Etroits\, Lyon\, 69005\, France
CATEGORIES:musique live
END:VEVENT
END:VCALENDAR