BEGIN:VCALENDAR
VERSION:2.0
PRODID:-//Ville Morte - ECPv5.12.4//NONSGML v1.0//EN
CALSCALE:GREGORIAN
METHOD:PUBLISH
X-WR-CALNAME:Ville Morte
X-ORIGINAL-URL:https://villemorte.fr
X-WR-CALDESC:évènements pour Ville Morte
BEGIN:VTIMEZONE
TZID:Europe/Paris
BEGIN:DAYLIGHT
TZOFFSETFROM:+0100
TZOFFSETTO:+0200
TZNAME:CEST
DTSTART:20190331T010000
END:DAYLIGHT
BEGIN:STANDARD
TZOFFSETFROM:+0200
TZOFFSETTO:+0100
TZNAME:CET
DTSTART:20191027T010000
END:STANDARD
END:VTIMEZONE
BEGIN:VEVENT
DTSTART;TZID=Europe/Paris:20190104T180000
DTEND;TZID=Europe/Paris:20190104T180000
DTSTAMP:20260424T110934
CREATED:20181216T121531Z
LAST-MODIFIED:20181216T121531Z
UID:7831-1546624800-1546624800@villemorte.fr
SUMMARY:Überyou + Whist + Yvet Garden
DESCRIPTION:@Rock’n’Eat \n• Chaos Project\, ROCK N EAT official(by céd & mike)\, Sailor Jerry et Secoa Skateboards présentent: \n« Party on! #1  » \n On vous propose une grosse soirée pour attaquer l’année 2019 tous ensemble! T’en as pas eu assez au nouvel an? Viens te finir en beauté! \nAu programme: \n•‍ Un tournoi de Beer Pong\nPour inscrire votre équipe de 2 à 3 personnes\, c’est via ce lien:\nhttps://tinyurl.com/yc8dnsgn\n(Merci à Totominou pour ce site web ! )\n Le prix pour le gagnant du tournoi n’est rien d’autre … Qu’une magnifique board fabriqué par Secoa Skateboards en partenariat avec Sailor Jerry!! C’est incroyable\, merci à eux. \n⏰ Ouverture des portes à 18h\, présence OBLIGATOIRE de tous les participants au tournoi à 19h! \nLe tournoi se déroulera de 19h à 20h45! Il n’y aura que 8 équipes qui pourront se défier\, donc soyez sûrs d’être présents et disponibles à 19h avant de vous inscrire :-). \n Tarif préférentiel sur les pichets pour les participants au tournoi:\n– le pichet à 20€ passe à 15€\n– le pichet à 18€ passe à 13€\n– le pichet à 13€ passe à 10€ \n BREF! Une soirée fortement intelligente qui va te faire gagner des points de QI et de vie! Après cette épreuve sportive de haut niveau\, tu as droit à 3 concerts de malades: \n• Überyou\n(Punk – Suisse )\n« Les punks d’Überyou ont balayé le monde entier ces dernières années\, que ce soit à La Havane\, à Sao Paulo\, à Kuala Lumpur\, à Kiev ou encore au Texas. Avec l’esprit fraternel des groupes punk de Gainsville à la Hot Water Music et Against Me!\, Überyou arrive sur scène et retourne le public: Videz le bar\, videz la tête et faites la fête! »\nIls sortiront leur nouvel album « NIGHT SHIFTS » le 11 janvier 2019!\n https://uberyou.bandcamp.com/\n https://youtu.be/BU1MUR8MDkc \n• WHIST\n(Rock alternatif\, Lyon)\n« Le quintet est emmené par l’intraitable Juliette\, jeune chanteuse pétillante et énergique qui vient définitivement clouer le bec aux quelques acrimonieux qui pensent encore que « le Rock\, c’est pas pour les filles ». Après une tournée européenne en support du groupe de punk australien The Decline\, une apparition remarquée lors du festival Longlive Rockfest et des concerts de prestige en ouverture d’artistes comme Antiflag ou No One Is Innocent\, les musiciens de WHIST sont plus que jamais résolus à se faire une place dans le paysage rock français. Ce n’est que le début pour cette jeune formation pleine d’ambition et très prolifique\, avec à son actif deux EP dont le dernier en date\, The Lines (Février 2018)\, qui n’en finit plus de susciter les réactions positives de la part des critiques. »\n https://whistband.bandcamp.com/\n https://youtu.be/TFTc44u6lXE \n• Yvet Garden\n(Pop Punk\, Valence)\n« Yvet Garden prend ses influences des groupes du début des années 90\, de la vague émergente de pop punk britannique ainsi que de la scène emo. Ce groupe de 5 musiciens mélange tout cela avec une goutte d’émotion positive pour le servir dans un cocktail de riffs accrocheurs et rêveurs qui vous ramènera à vos meilleures années de jeunesse. »\n Nouvel album « Twisted Tales » le 30 novembre 2018 !\n https://youtu.be/iJ7qZhtjCNY \n PRIX LIBRE\nOUVERTURE DES PORTES 18H\n Restauration sur place
URL:https://villemorte.fr/agenda/uberyou-whist-yvet-garden/
LOCATION:Rock n Eat\, 32 Quai Arloing\, Lyon\, 69009
CATEGORIES:musique live
ATTACH;FMTTYPE=image/jpeg:https://villemorte.fr/wp-content/uploads/2018/12/48260263_2317375985161762_2309223011036692480_o.jpg
END:VEVENT
END:VCALENDAR