BEGIN:VCALENDAR
VERSION:2.0
PRODID:-//Ville Morte - ECPv5.12.4//NONSGML v1.0//EN
CALSCALE:GREGORIAN
METHOD:PUBLISH
X-WR-CALNAME:Ville Morte
X-ORIGINAL-URL:https://villemorte.fr
X-WR-CALDESC:évènements pour Ville Morte
BEGIN:VTIMEZONE
TZID:Europe/Paris
BEGIN:DAYLIGHT
TZOFFSETFROM:+0100
TZOFFSETTO:+0200
TZNAME:CEST
DTSTART:20240331T010000
END:DAYLIGHT
BEGIN:STANDARD
TZOFFSETFROM:+0200
TZOFFSETTO:+0100
TZNAME:CET
DTSTART:20241027T010000
END:STANDARD
END:VTIMEZONE
BEGIN:VEVENT
DTSTART;TZID=Europe/Paris:20241025T190000
DTEND;TZID=Europe/Paris:20241025T190000
DTSTAMP:20260419T170602
CREATED:20240920T095214Z
LAST-MODIFIED:20240920T095226Z
UID:25848-1729882800-1729882800@villemorte.fr
SUMMARY:Vernissage de l'exposition LOVECRAFT·E
DESCRIPTION:Après être rentré dans la saison sombre avec son exposition SAMAIN en 2023\, la galerie de BosKop propose cette année d’explorer les univers de Lovecraft lors d’une exposition d’artistes non cis-hommes. \nL’appel à artistes est ouvert\, n’hésitez pas à nous écrire à : programmation@boskop.org \nToute la programmation des artistes et soirée sont sur le site de BosKop ! \nEn partenariat avec AOA Prod.
URL:https://villemorte.fr/agenda/vernissage-de-lexposition-lovecraft%c2%b7e/
LOCATION:BosKop\, 60 rue Sébastien Gryphe\, Lyon\, 69007
CATEGORIES:exposition
ATTACH;FMTTYPE=image/png:https://villemorte.fr/wp-content/uploads/2024/09/006.png
END:VEVENT
END:VCALENDAR