BEGIN:VCALENDAR
VERSION:2.0
PRODID:-//Ville Morte - ECPv5.12.4//NONSGML v1.0//EN
CALSCALE:GREGORIAN
METHOD:PUBLISH
X-WR-CALNAME:Ville Morte
X-ORIGINAL-URL:https://villemorte.fr
X-WR-CALDESC:évènements pour Ville Morte
BEGIN:VTIMEZONE
TZID:Europe/Paris
BEGIN:DAYLIGHT
TZOFFSETFROM:+0100
TZOFFSETTO:+0200
TZNAME:CEST
DTSTART:20200329T010000
END:DAYLIGHT
BEGIN:STANDARD
TZOFFSETFROM:+0200
TZOFFSETTO:+0100
TZNAME:CET
DTSTART:20201025T010000
END:STANDARD
END:VTIMEZONE
BEGIN:VEVENT
DTSTART;TZID=Europe/Paris:20200124T180000
DTEND;TZID=Europe/Paris:20200124T210000
DTSTAMP:20260425T025440
CREATED:20200108T105809Z
LAST-MODIFIED:20200108T105809Z
UID:11763-1579888800-1579899600@villemorte.fr
SUMMARY:Vernissage de l'exposition « Plurielle »
DESCRIPTION:[ L’EXPOSITION\nDay2Day Gallery présente la 3ème édition de l’exposition « Plurielle ». Réunissant 10 artistes peintres\, l’évènement met en avant la pluralité de la peinture contemporaine à travers des styles variés et des univers marqués.\nEn effet\, à l’image de la diversité de ce que propose l’art contemporain\, cette exposition présente une multitude de techniques\, supports et mediums. Ainsi\, elle associe des œuvres à l’acrylique\, à l’huile\, à la bombe\, mais aussi à l’encre\, sur toiles\, papiers ou bois.\nPar le biais d’un espace dédié à son travail\, chaque artiste traduit sa singularité en exposant des œuvres phares et des nouveautés. Du style urbain aux projections sur toile\, du néo-primitivisme au figuratif ou du réalisme à l’expressionisme\, les sens seront à nouveau en éveil dans ce dédale de couleurs et de matières. \nLES ARTISTES\nLa majorité des oeuvres présentées à l’exposition sont celles d’artistes membres de l’effectif permanent de la galerie (CannibalMalabar\, Psico\, Julie Douillet\, Véronique Kraemer\, Bruno Decombe\, Christel Giraud\, Eric Khellas). Néanmoins\, l’évènement souhaite aussi mettre en avant les travaux et la démarche artistique de Tarek Ben Yakhlef\, artiste international multidisciplinaire. Enfin\, les univers artistiques de Pascale Charrier-Royer et Marie Kvk seront également à découvrir. \nLA SOIREE DE VERNISSAGE\nUne soirée de vernissage en présence des artistes est organisée le vendredi 24 janvier (18h-21h). Elle sera l’occasion d’ouvrir l’exposition aux noctambules jusqu’à 21h. De plus\, les visiteurs pourront également rencontrer les artistes et échanger avec eux.\nPar ailleurs\, la soirée sera ponctuée par un Live Painting de Tarek Ben Yakhlef. Il sera ainsi possible d’assister en direct à la réalisation d’une oeuvre artistique. \nINFORMATIONS PRATIQUES\nExposition du 21 au 28 janvier 2020\nVernissage le vendredi 24 janvier à partir de 18h\nA l’Espace Berthelot – 14\, avenue Berthelot – LYON 7\nTous les jours (14h – 19h) ; sauf le vendredi (14h – 21h) \nUn évènement organisé en partenariat avec Paris Tonkar Magazine\, Artifexio\, Pasqui Galerie et L’Appartement des Arts. ] \nLe dossier de présentation complet est téléchargeable à cette adresse : https://day2daygallery.fr/wp/wp-content/uploads/2019/12/DP-Plurielle-3eme-edition.pdf
URL:https://villemorte.fr/agenda/vernissage-de-lexposition-plurielle/
LOCATION:Espace Berthelot\, 14\, avenue Berthelot\, LYON\, 69007
CATEGORIES:exposition
END:VEVENT
END:VCALENDAR