BEGIN:VCALENDAR
VERSION:2.0
PRODID:-//Ville Morte - ECPv5.12.4//NONSGML v1.0//EN
CALSCALE:GREGORIAN
METHOD:PUBLISH
X-WR-CALNAME:Ville Morte
X-ORIGINAL-URL:https://villemorte.fr
X-WR-CALDESC:évènements pour Ville Morte
BEGIN:VTIMEZONE
TZID:Europe/Paris
BEGIN:DAYLIGHT
TZOFFSETFROM:+0100
TZOFFSETTO:+0200
TZNAME:CEST
DTSTART:20190331T010000
END:DAYLIGHT
BEGIN:STANDARD
TZOFFSETFROM:+0200
TZOFFSETTO:+0100
TZNAME:CET
DTSTART:20191027T010000
END:STANDARD
END:VTIMEZONE
BEGIN:VEVENT
DTSTART;TZID=Europe/Paris:20190502T183000
DTEND;TZID=Europe/Paris:20190502T183000
DTSTAMP:20260425T153522
CREATED:20190427T081413Z
LAST-MODIFIED:20190427T081413Z
UID:9489-1556821800-1556821800@villemorte.fr
SUMMARY:Vernissage Koenraad Dedobbeleer
DESCRIPTION:Koenraad Dedobbeleer\nA Reduction to the Comprehensible by Reason \njeudi 2 mai\, 18h30 \nLa Salle de bains\n1 rue Louis Vitet\n69001 Lyon
URL:https://villemorte.fr/agenda/vernissage-koenraad-dedobbeleer/
LOCATION:La Salle de Bains\, 1 rue Louis Vitet\, LYON\, 69001
CATEGORIES:exposition
END:VEVENT
END:VCALENDAR