BEGIN:VCALENDAR
VERSION:2.0
PRODID:-//Ville Morte - ECPv5.12.4//NONSGML v1.0//EN
CALSCALE:GREGORIAN
METHOD:PUBLISH
X-WR-CALNAME:Ville Morte
X-ORIGINAL-URL:https://villemorte.fr
X-WR-CALDESC:évènements pour Ville Morte
BEGIN:VTIMEZONE
TZID:Europe/Paris
BEGIN:DAYLIGHT
TZOFFSETFROM:+0100
TZOFFSETTO:+0200
TZNAME:CEST
DTSTART:20220327T010000
END:DAYLIGHT
BEGIN:STANDARD
TZOFFSETFROM:+0200
TZOFFSETTO:+0100
TZNAME:CET
DTSTART:20221030T010000
END:STANDARD
END:VTIMEZONE
BEGIN:VEVENT
DTSTART;TZID=Europe/Paris:20220915T180000
DTEND;TZID=Europe/Paris:20220915T180000
DTSTAMP:20260423T003735
CREATED:20220828T135330Z
LAST-MODIFIED:20220828T135330Z
UID:16966-1663264800-1663264800@villemorte.fr
SUMMARY:Vernissage Réalités Augmentées
DESCRIPTION:Vernissage le jeudi 15 septembre à 18h de l’exposition Réalités Augmentées au Trokson\, 110 montée de la grande côte\, Lyon 01.\nSélection de photographies tirées sur papier miroir.\nImages de natures mortes\, vivantes\, végétales\, minérales.\nDeborah Colloc et Olivier Voyou sont deux photographes lyonnais pour lesquels l’onirique est un pan de la réalité\, le rêve comme valeur ajoutée non-commerciale au réel.\nOn les croise régulièrement aux concerts lyonnais\, en tant que public ou sur scène dans les groupes Croisette (synth pop) et Loudun (musique industrielle).\nhttps://www.instagram.com/oliviervoyou/\nhttps://www.instagram.com/strega_kira/
URL:https://villemorte.fr/agenda/vernissage-realites-augmentees/
LOCATION:Trokson\, 110 Montée de la grande côte\, Lyon\, 69001\, France
CATEGORIES:exposition,photographie
END:VEVENT
END:VCALENDAR