BEGIN:VCALENDAR
VERSION:2.0
PRODID:-//Ville Morte - ECPv5.12.4//NONSGML v1.0//EN
CALSCALE:GREGORIAN
METHOD:PUBLISH
X-WR-CALNAME:Ville Morte
X-ORIGINAL-URL:https://villemorte.fr
X-WR-CALDESC:évènements pour Ville Morte
BEGIN:VTIMEZONE
TZID:Europe/Paris
BEGIN:DAYLIGHT
TZOFFSETFROM:+0100
TZOFFSETTO:+0200
TZNAME:CEST
DTSTART:20190331T010000
END:DAYLIGHT
BEGIN:STANDARD
TZOFFSETFROM:+0200
TZOFFSETTO:+0100
TZNAME:CET
DTSTART:20191027T010000
END:STANDARD
END:VTIMEZONE
BEGIN:VEVENT
DTSTART;TZID=Europe/Paris:20190421T090000
DTEND;TZID=Europe/Paris:20190421T230000
DTSTAMP:20260424T132839
CREATED:20190403T060110Z
LAST-MODIFIED:20190403T060110Z
UID:9180-1555837200-1555887600@villemorte.fr
SUMMARY:Vide Grenier du Rita-Plage
DESCRIPTION:@ Square Jacques Prevert 59 cours Tolstoï\n \n  \n 
URL:https://villemorte.fr/agenda/vide-grenier-du-rita-plage/
CATEGORIES:brocante & vide grenier
END:VEVENT
END:VCALENDAR