BEGIN:VCALENDAR
VERSION:2.0
PRODID:-//Ville Morte - ECPv5.12.4//NONSGML v1.0//EN
CALSCALE:GREGORIAN
METHOD:PUBLISH
X-WR-CALNAME:Ville Morte
X-ORIGINAL-URL:https://villemorte.fr
X-WR-CALDESC:évènements pour Ville Morte
BEGIN:VTIMEZONE
TZID:Europe/Paris
BEGIN:DAYLIGHT
TZOFFSETFROM:+0100
TZOFFSETTO:+0200
TZNAME:CEST
DTSTART:20190331T010000
END:DAYLIGHT
BEGIN:STANDARD
TZOFFSETFROM:+0200
TZOFFSETTO:+0100
TZNAME:CET
DTSTART:20191027T010000
END:STANDARD
END:VTIMEZONE
BEGIN:VEVENT
DTSTART;TZID=Europe/Paris:20190406T210000
DTEND;TZID=Europe/Paris:20190406T210000
DTSTAMP:20260424T113826
CREATED:20190310T190448Z
LAST-MODIFIED:20190311T234958Z
UID:8864-1554584400-1554584400@villemorte.fr
SUMMARY:VINTAGE CROP + URSA
DESCRIPTION:06 AVRIL > VINTAGE CROP + URSA @ Trokson (20h30 – Gratos) \nTous en Tong et le Trokson présentent… \nVintage Crop + URSA\nSamedi 6 avril 2019\nTrokson\nGratos\nSuivi d’une after au Bootlegger avec le Tous en Tong DJ crew \n——————————————————– \n🏇 Vintage Crop 🏇.\n(Post-punk garage // Melbourne // ANTI FADE records) \nSi vous avez googlelisé Vintage Crop\, vous savez donc que ce dernier\, avant d’être un groupe\, était un célèbre cheval de race britannique qui réussit l’exploit de remporter la course la plus célèbre d’Australie\, la Melbourne Cup. Hasard ou prémonition\, c’est sur la foi de quelques extraits live que nous avions décidé de miser sur ce cheval\, natif de Melbourne\, et jeune pensionnaire du label ANTI FADE records. La suite nous donnera raison.\nDeux albums coups de poing en deux ans\, sortis en France chez Polak Records\, qui ont fait du quatuor la nouvelle sensation garage-punk australienne. Guitares rappeuses en son clair\, textes scandés voire éructés\, composition à plusieurs têtes\, port de la guitare au dessus du nombril\, culte du no-look… la formule n’est pas sans rappeler celle des darons ricains d’Uranium Club\, dont la ressemblance est même criante sur certains morceaux. A l’instar de ses mentors de Minneapolis\, le quatuor jongle entre explorations post-punk\, parfois robotiques\, et mandales punk dépassant rarement les deux minutes. Difficile de ne pas aussi penser à Ausmuteants\, à The Chats\, à The Living Eyes… toute cette scène australienne qui n’en finit plus de nous mettre des taloches.\nAprès The Shifters en mars\, c’est donc au tour de Vintage Crop de débarquer pour la première fois en Europe. Faites-nous confiance\, le débarquement en provenance de Melbourne n’est pas prêt de s’arrêter. \n>> https://vintagecrop.bandcamp.com/album/new-age-2 \n≡ URSA ≡\n(Synth-punk // Lyon // Cool marriage records) \nCréé en 2017\, URSA est avant tout une rencontre entre des électrons de Litige\, Clara Clara\, Gammy Bird et Robotnicka s’étant donné pour mission de convertir leur énergie en dancefloor atomique. \n« Si Devo braquait une pharmacie avec Edith Nylon\, engloutissait le stock de vitamines et enregistrait des morceaux pour une compile Subnormal Girls\, ça donnerait un truc comme Ursa – ni post-punk ni new-wave ni pop rétro-futuriste\, mais tout ça à la fois\, comme la bande-son d’un cours d’aérobic autogéré où ça boirait pinte sur pinte. Au début on les surnommait « l’Esprit de la teuf »\, et ça résume bien l’ambiance – sauf que la teuf a lieu dans des ruines encore chaudes\, et que tout le monde sait qu’on danse pour oublier le malaise. Bref\, la musique d’Ursa est hors-catégorie\, le cas trop rare du groupe qui sonne à la fois organique\, et en provenance directe d’une lointaine planète. » – Cool Marriage Records \n>> https://ursalyon.bandcamp.com/releases \nLe Trokson\n110 Montée de la Grande-Côte\n69001 Lyon
URL:https://villemorte.fr/agenda/vintage-crop-ursa/
LOCATION:Trokson\, 110 Montée de la grande côte\, Lyon\, 69001\, France
CATEGORIES:musique live
END:VEVENT
END:VCALENDAR