BEGIN:VCALENDAR
VERSION:2.0
PRODID:-//Ville Morte - ECPv5.12.4//NONSGML v1.0//EN
CALSCALE:GREGORIAN
METHOD:PUBLISH
X-WR-CALNAME:Ville Morte
X-ORIGINAL-URL:https://villemorte.fr
X-WR-CALDESC:évènements pour Ville Morte
BEGIN:VTIMEZONE
TZID:Europe/Paris
BEGIN:DAYLIGHT
TZOFFSETFROM:+0100
TZOFFSETTO:+0200
TZNAME:CEST
DTSTART:20240331T010000
END:DAYLIGHT
BEGIN:STANDARD
TZOFFSETFROM:+0200
TZOFFSETTO:+0100
TZNAME:CET
DTSTART:20241027T010000
END:STANDARD
END:VTIMEZONE
BEGIN:VEVENT
DTSTART;TZID=Europe/Paris:20241214T203000
DTEND;TZID=Europe/Paris:20241214T203000
DTSTAMP:20260422T112542
CREATED:20241112T111054Z
LAST-MODIFIED:20241113T091114Z
UID:26525-1734208200-1734208200@villemorte.fr
SUMMARY:White Wire + Bonneville
DESCRIPTION:WHITE WIRE (Noise Punk Rock // Blois) \nWhite Wire\, trio Blésois\, c’est l’association de deux anciens Elles (Blois) et d’un Extrapillows (Tours). Punk noise incisif\, expression d’une urgence\, d’un monde cinglé\, coup de scie circulaire dans la frustration\, White Wire c’est le cadavre de Nirvana dans une baignoire d’acide.\nhttps://whitewire.bandcamp.com/ \n  \nBONNEVILLE (Noise Punk // Lyon) \nFormé a Lyon en 2023 mais bloqué sur la côte ouest des Etats Unis dans les années 90\, Bonneville distille une noise punk puisant son énergie dans les gamelles d’Unwound\, Mogwai\, Rodan ou encore Fugazi. Entre hardcore\, punk\, noise et math-rock\, le groupe mêle riffs tendus\, rythmiques linéaires et mélodies aussi énergiques qu’instinctives.
URL:https://villemorte.fr/agenda/white-wire-bonneville/
LOCATION:Trokson\, 110 Montée de la grande côte\, Lyon\, 69001\, France
CATEGORIES:musique live
END:VEVENT
END:VCALENDAR