BEGIN:VCALENDAR
VERSION:2.0
PRODID:-//Ville Morte - ECPv5.12.4//NONSGML v1.0//EN
CALSCALE:GREGORIAN
METHOD:PUBLISH
X-WR-CALNAME:Ville Morte
X-ORIGINAL-URL:https://villemorte.fr
X-WR-CALDESC:évènements pour Ville Morte
BEGIN:VTIMEZONE
TZID:Europe/Paris
BEGIN:DAYLIGHT
TZOFFSETFROM:+0100
TZOFFSETTO:+0200
TZNAME:CEST
DTSTART:20240331T010000
END:DAYLIGHT
BEGIN:STANDARD
TZOFFSETFROM:+0200
TZOFFSETTO:+0100
TZNAME:CET
DTSTART:20241027T010000
END:STANDARD
END:VTIMEZONE
BEGIN:VEVENT
DTSTART;TZID=Europe/Paris:20240210T190000
DTEND;TZID=Europe/Paris:20240210T233000
DTSTAMP:20260420T005212
CREATED:20240103T143047Z
LAST-MODIFIED:20240122T170838Z
UID:22369-1707591600-1707607800@villemorte.fr
SUMMARY:Will Guthrie & Container + Pêche Plate + Irwin Barbé + TBA
DESCRIPTION:Will Guthrie & Container \n \n+ \n \n  \n  \nPêche Plate \n  \nTrop Pihkal de Pêche Plate \nIrwin Barbé\n(synthétiseurs oiseaux – Lyon) \nà GRRRND ZERO \n+/- 6€
URL:https://villemorte.fr/agenda/will-guthrie-container-peche-plate/
LOCATION:Grrrnd Zero\, 60\, avenue de Bohlen\, Vaulx en Velin\, 69120
CATEGORIES:bal folk,club de lecture,coiffure,écoute,musique live,rencontre,stand-up
END:VEVENT
END:VCALENDAR