BEGIN:VCALENDAR
VERSION:2.0
PRODID:-//Ville Morte - ECPv5.12.4//NONSGML v1.0//EN
CALSCALE:GREGORIAN
METHOD:PUBLISH
X-WR-CALNAME:Ville Morte
X-ORIGINAL-URL:https://villemorte.fr
X-WR-CALDESC:évènements pour Ville Morte
BEGIN:VTIMEZONE
TZID:Europe/Paris
BEGIN:DAYLIGHT
TZOFFSETFROM:+0100
TZOFFSETTO:+0200
TZNAME:CEST
DTSTART:20240331T010000
END:DAYLIGHT
BEGIN:STANDARD
TZOFFSETFROM:+0200
TZOFFSETTO:+0100
TZNAME:CET
DTSTART:20241027T010000
END:STANDARD
END:VTIMEZONE
BEGIN:VEVENT
DTSTART;TZID=Europe/Paris:20240223T190000
DTEND;TZID=Europe/Paris:20240223T210000
DTSTAMP:20260420T073238
CREATED:20240222T152950Z
LAST-MODIFIED:20240222T152950Z
UID:23231-1708714800-1708722000@villemorte.fr
SUMMARY:Workshop - La Synthèse Vidéo #2
DESCRIPTION:Workshop | La Synthèse Vidéo \nAu cours de cet atelier\, on te présentera les différents concepts derrière le curieux monde de la synthèse vidéo\, pourquoi elle n’est pas si différente de la synthèse audio\, et comment l’intégrer à un workflow musical. \nSur inscription ici : https://www.helloasso.com/associations/lesequenceur/evenements/workshop-la-synthese-video-2 \nSavais-tu qu’il existait des bleep bleep bl0opp KrrrKzz BRRRRRRRR toiing ZAP¡ pour les yeux aussi ? \nÇa s’appelle la synthèse vidéo\, et de la même manière que pour la synthèse audio\, tout part d’oscillateurs\, et ta créativité s’occupera du reste ! \n  \nAu cours de cet atelier\, on te présentera les différents concepts derrière le curieux monde de la synthèse vidéo\, pourquoi elle n’est pas si différente de la synthèse audio\, et comment l’intégrer à un workflow musical. \n  \nCet atelier ne fait actuellement pas partie d’un format récurrent de nos évènements\, mais pourra être réitéré si le besoin est ressenti ou exprimé. \n  \n⚠️ Attention\, seulement 12 places sont disponibles ! \n🗓 Évènement Facebook : https://fb.me/e/1JdYb7vfh \n📍Ateliers des Médias : https://www.atelier-medias.org/ \n  \n↓ ↓ ↓ ↓ ↓ ↓ ↓ ↓ ↓ ↓ ↓ ↓ ↓ ↓ ↓ ↓ ↓ ↓ ↓ ↓ ↓ ↓ ↓ ↓ ↓ ↓ ↓ ↓ ↓ ↓ ↓ ↓ ↓ ↓ ↓ ↓ ↓ \n  \n—————————— Infos pratiques ——————————— \n⏰ Vendredi 23 Février de 19h à 21h30 \n🏡 Locaux de l’Ateliers des Médias : 9 Quai André Lassagne\, 69001 Lyon \n🚉 Métro A – Hôtel de Ville / Métro C – Croix-Paquet \n🚎 Bus C5/C6/9/132/171 – Pont de Lattre RD \n🍞 N’hésitez pas à apporter un petit quelque chose à partager : la convivialité est du ressort de chacun•e ! \n✔️ Adhésion 2023-2024 à l’association Le Séquenceur obligatoire : https://www.helloasso.com/associations/lesequenceur/adhesions/adhesion-2023-2024
URL:https://villemorte.fr/agenda/workshop-la-synthese-video-2/
LOCATION:l’Atelier des médias\, 9 Quai André Lassagne\, LYON\, 69001
CATEGORIES:atelier
END:VEVENT
END:VCALENDAR