BEGIN:VCALENDAR
VERSION:2.0
PRODID:-//Ville Morte - ECPv5.12.4//NONSGML v1.0//EN
CALSCALE:GREGORIAN
METHOD:PUBLISH
X-WR-CALNAME:Ville Morte
X-ORIGINAL-URL:https://villemorte.fr
X-WR-CALDESC:évènements pour Ville Morte
BEGIN:VTIMEZONE
TZID:Europe/Paris
BEGIN:DAYLIGHT
TZOFFSETFROM:+0100
TZOFFSETTO:+0200
TZNAME:CEST
DTSTART:20190331T010000
END:DAYLIGHT
BEGIN:STANDARD
TZOFFSETFROM:+0200
TZOFFSETTO:+0100
TZNAME:CET
DTSTART:20191027T010000
END:STANDARD
END:VTIMEZONE
BEGIN:VEVENT
DTSTART;TZID=Europe/Paris:20190410T203000
DTEND;TZID=Europe/Paris:20190410T203000
DTSTAMP:20260424T025333
CREATED:20190310T183532Z
LAST-MODIFIED:20190310T183532Z
UID:8847-1554928200-1554928200@villemorte.fr
SUMMARY:XCIII + ASHKEY
DESCRIPTION:Mer 10.04 \n\n\nXCIII \n\n\nRock Avantgarde – Paris \n\n\nASHKEY \n\n\nPost-shoegaze – Lyon \n 
URL:https://villemorte.fr/agenda/xciii-ashkey/
LOCATION:Kraspek Myzik\, 20 Montée Saint Sébastien\, Lyon\, 69001\, France
CATEGORIES:musique live
END:VEVENT
END:VCALENDAR