BEGIN:VCALENDAR
VERSION:2.0
PRODID:-//Ville Morte - ECPv5.12.4//NONSGML v1.0//EN
CALSCALE:GREGORIAN
METHOD:PUBLISH
X-WR-CALNAME:Ville Morte
X-ORIGINAL-URL:https://villemorte.fr
X-WR-CALDESC:évènements pour Ville Morte
BEGIN:VTIMEZONE
TZID:Europe/Paris
BEGIN:DAYLIGHT
TZOFFSETFROM:+0100
TZOFFSETTO:+0200
TZNAME:CEST
DTSTART:20190331T010000
END:DAYLIGHT
BEGIN:STANDARD
TZOFFSETFROM:+0200
TZOFFSETTO:+0100
TZNAME:CET
DTSTART:20191027T010000
END:STANDARD
END:VTIMEZONE
BEGIN:VEVENT
DTSTART;TZID=Europe/Paris:20190719T200000
DTEND;TZID=Europe/Paris:20190719T200000
DTSTAMP:20260426T022210
CREATED:20190516T144119Z
LAST-MODIFIED:20190516T144119Z
UID:9650-1563566400-1563566400@villemorte.fr
SUMMARY:YC-CY + d'autres
DESCRIPTION:Ven 19 juillet 20h YC-CY + d’autres @laloidedolbear@gmail.com
URL:https://villemorte.fr/agenda/yc-cy-dautres/
LOCATION:laloidedolbear@gmail.com
CATEGORIES:musique live
END:VEVENT
END:VCALENDAR