BEGIN:VCALENDAR
VERSION:2.0
PRODID:-//Ville Morte - ECPv5.12.4//NONSGML v1.0//EN
CALSCALE:GREGORIAN
METHOD:PUBLISH
X-WR-CALNAME:Ville Morte
X-ORIGINAL-URL:https://villemorte.fr
X-WR-CALDESC:évènements pour Ville Morte
BEGIN:VTIMEZONE
TZID:Europe/Paris
BEGIN:DAYLIGHT
TZOFFSETFROM:+0100
TZOFFSETTO:+0200
TZNAME:CEST
DTSTART:20190331T010000
END:DAYLIGHT
BEGIN:STANDARD
TZOFFSETFROM:+0200
TZOFFSETTO:+0100
TZNAME:CET
DTSTART:20191027T010000
END:STANDARD
END:VTIMEZONE
BEGIN:VEVENT
DTSTART;TZID=Europe/Paris:20191017T180000
DTEND;TZID=Europe/Paris:20191017T180000
DTSTAMP:20260423T174139
CREATED:20191010T132907Z
LAST-MODIFIED:20191010T132907Z
UID:10868-1571335200-1571335200@villemorte.fr
SUMMARY:Youpron #3 spécial foodporn
DESCRIPTION:YOUPRON N°3 #foodporn sortie de fanzine sur la pornographie\, le capitalisme et la lune de miel! \nJeudi 17 OCTOBRE 2019 à partir de 18h au Studio H13. \nVenez découvrir le troisième numéro de Youpron autour des cultures pornographiques\, du capitalisme et de la food porn qui sera vendu dans son plateau sushi à emporter avec plein de surprises faites à la main dedans ! \nAprès deux mois passés à Bruxelles\, Youpron est heureuse de présenter son nouveau numéro à Lyon au Studio H13! \nAvec en cuisine dans ce numéro les merveilleux Rebecca Dorothy \, Joli-Cœur Pierson \, Hector Msk\, Youpron et JJ von Panure! \nEt pour notre plaisir lyonnais une exposition de minuscules sculptures\, de fèves uniques\, en faïence de JJ von Panure!\nhttps://www.instagram.com/jjvonpanure/ \nCocktails de l’été et petits fours à prix libre par la Cheffe Julie de Chez Marcelle et Daniel.\nVidéo\, Youpron 1\, 2 & 3\, mini zine spécial Athènes\, posters par Youpron et Hector Mosko\, sélection de fanzine par le Studio H13…\n#scrapbooking \n*YOUPRON est une maison féministe et pro sexe pour celleux qui s’intéressent et se questionnent sur les rapports à la pornographie\, ses liens avec le capitalisme et la popculture.* \nYOUPRON by Marion Aeschlimann X Benjamin Villemagne (Quincaillerie Moderne) feat le Studio H13 \nComptes Instagram:\nhttps://www.instagram.com/youpron.1/\nhttps://www.instagram.com/studioh13/\nhttps://www.instagram.com/jolicoeurcherchemidi2/\nhttps://www.instagram.com/rebeccadorothyx/\nhttps://www.instagram.com/jjvonpanure/\nhttps://www.instagram.com/hectormosko/
URL:https://villemorte.fr/agenda/youpron-3-special-foodporn/
LOCATION:studio H13\, 5 rue Bonald\, LYON\, 69007
CATEGORIES:bouffe,distro,édition,exposition,fanzine,projection
END:VEVENT
END:VCALENDAR