BEGIN:VCALENDAR
VERSION:2.0
PRODID:-//Ville Morte - ECPv5.12.4//NONSGML v1.0//EN
CALSCALE:GREGORIAN
METHOD:PUBLISH
X-WR-CALNAME:Ville Morte
X-ORIGINAL-URL:https://villemorte.fr
X-WR-CALDESC:évènements pour Ville Morte
BEGIN:VTIMEZONE
TZID:Europe/Paris
BEGIN:DAYLIGHT
TZOFFSETFROM:+0100
TZOFFSETTO:+0200
TZNAME:CEST
DTSTART:20250330T010000
END:DAYLIGHT
BEGIN:STANDARD
TZOFFSETFROM:+0200
TZOFFSETTO:+0100
TZNAME:CET
DTSTART:20251026T010000
END:STANDARD
END:VTIMEZONE
BEGIN:VEVENT
DTSTART;TZID=Europe/Paris:20250330T190000
DTEND;TZID=Europe/Paris:20250330T190000
DTSTAMP:20260419T204804
CREATED:20250204T212724Z
LAST-MODIFIED:20250204T212724Z
UID:27688-1743361200-1743361200@villemorte.fr
SUMMARY:Zeal & Ardor
DESCRIPTION:ZEAL & ARDOR n’est pas seulement un groupe\, c’est une entité vivante et respirante. Comme tout autre être sensible\, il se nourrit\, évolue et se transforme d’une saison à l’autre. Sa forme peut changer\, mais son esprit reste le même. Fondé et dirigé par Manuel Gagneux\, il n’a cessé d’aiguiser ses griffes\, d’allonger ses crocs et de renforcer ses nerfs au fil des ans\, devenant ainsi incontournable et imprévisible.
URL:https://villemorte.fr/agenda/zeal-ardor/
LOCATION:CCO La Rayonne\, 24 rue Alfred de Musset\, VILLEURBANNE\, 69100
CATEGORIES:musique live
END:VEVENT
END:VCALENDAR